{"text_format":"1","workbook":"xlsx","n_sheets":2,"sheets":["合成オッズ計算表","オッズ逆数"],"not_rendered":{"charts":0,"images":0,"macros":1,"external_links":0,"defined_names":0,"comments":0,"pivot_tables":0},"unopened":[],"bounds":{"document_bytes":16777216,"sheet_cells":100000,"rows_first":2000,"rows_last":500,"rows_between":2000,"halvings":0,"cell_chars":16384,"cell_head_chars":4096},"cells_cut":0,"cells_raw":0,"read":"whole","date_system":"1900"}

{"sheet":"合成オッズ計算表","index":0,"n_rows":110,"n_cols":18,"rows_kept":110,"cut":false,"hidden":false,"merged":[[8,16,8,17],[1,8,1,9],[1,10,1,11],[7,14,7,15],[7,16,7,17],[8,2,8,3],[8,4,8,5],[8,6,8,7],[8,8,8,9],[8,10,8,11],[8,12,8,13],[8,14,8,15],[6,14,6,15],[6,16,6,17],[7,2,7,3],[7,4,7,5],[7,6,7,7],[7,8,7,9],[7,10,7,11],[7,12,7,13],[6,2,6,3],[6,4,6,5],[6,6,6,7],[6,8,6,9],[6,10,6,11],[6,12,6,13]]}
["合成オッズ計算表",null,null,"https://jpot-keiba.com/"]
[null,null,null,null,null,null,null,null,"買い目数合計",null,{"$f":"SUM(C9:R9)","v":0}]
[]
[]
[]
[]
[null,"券種","単勝",null,"複勝",null,"枠連",null,"ワイド",null,"馬連",null,"馬単",null,"３連複",null,"３連単"]
[null,"合成オッズ",{"$f":"IF(SUM(オッズ逆数!A:A)>0,1/SUM(オッズ逆数!A:A),\"\")","v":""},null,{"$f":"IF(SUM(オッズ逆数!B:B)>0,\"(\"&INT(100*1/SUM(オッズ逆数!B:B))/100&\")\",\"\")","v":""},null,{"$f":"IF(SUM(オッズ逆数!C:C)>0,1/SUM(オッズ逆数!C:C),\"\")","v":""},null,{"$f":"IF(SUM(オッズ逆数!D:D)>0,\"(\"&INT(100*1/SUM(オッズ逆数!D:D))/100&\")\",\"\")","v":""},null,{"$f":"IF(SUM(オッズ逆数!E:E)>0,1/SUM(オッズ逆数!E:E),\"\")","v":""},null,{"$f":"IF(SUM(オッズ逆数!F:F)>0,1/SUM(オッズ逆数!F:F),\"\")","v":""},null,{"$f":"IF(SUM(オッズ逆数!G:G)>0,1/SUM(オッズ逆数!G:G),\"\")","v":""},null,{"$f":"IF(SUM(オッズ逆数!H:H)>0,1/SUM(オッズ逆数!H:H),\"\")","v":""}]
[null,"買い目数合計",{"$f":"MAX(COUNTA(C11:C110),COUNTA(D11:D110))","v":0},null,{"$f":"MAX(COUNTA(E11:E110),COUNTA(F11:F110))","v":0},null,{"$f":"MAX(COUNTA(G11:G110),COUNTA(H11:H110))","v":0},null,{"$f":"MAX(COUNTA(I11:I110),COUNTA(J11:J110))","v":0},null,{"$f":"MAX(COUNTA(K11:K110),COUNTA(L11:L110))","v":0},null,{"$f":"MAX(COUNTA(M11:M110),COUNTA(N11:N110))","v":0},null,{"$f":"MAX(COUNTA(O11:O110),COUNTA(P11:P110))","v":0},null,{"$f":"MAX(COUNTA(Q11:Q110),COUNTA(R11:R110))","v":0}]
[null,"No","買い目","オッズ","買い目","オッズ","買い目","オッズ","買い目","オッズ","買い目","オッズ","買い目","オッズ","買い目","オッズ","買い目","オッズ"]
[null,1]
[null,2]
[null,3]
[null,4]
[null,5]
[null,6]
[null,7]
[null,8]
[null,9]
[null,10]
[null,11]
[null,12]
[null,13]
[null,14]
[null,15]
[null,16]
[null,17]
[null,18]
[null,19]
[null,20]
[null,21]
[null,22]
[null,23]
[null,24]
[null,25]
[null,26]
[null,27]
[null,28]
[null,29]
[null,30]
[null,31]
[null,32]
[null,33]
[null,34]
[null,35]
[null,36]
[null,37]
[null,38]
[null,39]
[null,40]
[null,41]
[null,42]
[null,43]
[null,44]
[null,45]
[null,46]
[null,47]
[null,48]
[null,49]
[null,50]
[null,51]
[null,52]
[null,53]
[null,54]
[null,55]
[null,56]
[null,57]
[null,58]
[null,59]
[null,60]
[null,61]
[null,62]
[null,63]
[null,64]
[null,65]
[null,66]
[null,67]
[null,68]
[null,69]
[null,70]
[null,71]
[null,72]
[null,73]
[null,74]
[null,75]
[null,76]
[null,77]
[null,78]
[null,79]
[null,80]
[null,81]
[null,82]
[null,83]
[null,84]
[null,85]
[null,86]
[null,87]
[null,88]
[null,89]
[null,90]
[null,91]
[null,92]
[null,93]
[null,94]
[null,95]
[null,96]
[null,97]
[null,98]
[null,99]
[null,100]

{"sheet":"オッズ逆数","index":1,"n_rows":100,"n_cols":8,"rows_kept":100,"cut":false,"hidden":false,"merged":[]}
[{"$f":"IF(合成オッズ計算表!D11>=1,1/合成オッズ計算表!D11,\"\")","v":""},{"$f":"IF(合成オッズ計算表!F11>=1,1/合成オッズ計算表!F11,\"\")","v":""},{"$f":"IF(合成オッズ計算表!H11>=1,1/合成オッズ計算表!H11,\"\")","v":""},{"$f":"IF(合成オッズ計算表!J11>=1,1/合成オッズ計算表!J11,\"\")","v":""},{"$f":"IF(合成オッズ計算表!L11>=1,1/合成オッズ計算表!L11,\"\")","v":""},{"$f":"IF(合成オッズ計算表!N11>=1,1/合成オッズ計算表!N11,\"\")","v":""},{"$f":"IF(合成オッズ計算表!P11>=1,1/合成オッズ計算表!P11,\"\")","v":""},{"$f":"IF(合成オッズ計算表!R11>=1,1/合成オッズ計算表!R11,\"\")","v":""}]
[{"$f":"IF(合成オッズ計算表!D12>=1,1/合成オッズ計算表!D12,\"\")","v":""},{"$f":"IF(合成オッズ計算表!F12>=1,1/合成オッズ計算表!F12,\"\")","v":""},{"$f":"IF(合成オッズ計算表!H12>=1,1/合成オッズ計算表!H12,\"\")","v":""},{"$f":"IF(合成オッズ計算表!J12>=1,1/合成オッズ計算表!J12,\"\")","v":""},{"$f":"IF(合成オッズ計算表!L12>=1,1/合成オッズ計算表!L12,\"\")","v":""},{"$f":"IF(合成オッズ計算表!N12>=1,1/合成オッズ計算表!N12,\"\")","v":""},{"$f":"IF(合成オッズ計算表!P12>=1,1/合成オッズ計算表!P12,\"\")","v":""},{"$f":"IF(合成オッズ計算表!R12>=1,1/合成オッズ計算表!R12,\"\")","v":""}]
[{"$f":"IF(合成オッズ計算表!D13>=1,1/合成オッズ計算表!D13,\"\")","v":""},{"$f":"IF(合成オッズ計算表!F13>=1,1/合成オッズ計算表!F13,\"\")","v":""},{"$f":"IF(合成オッズ計算表!H13>=1,1/合成オッズ計算表!H13,\"\")","v":""},{"$f":"IF(合成オッズ計算表!J13>=1,1/合成オッズ計算表!J13,\"\")","v":""},{"$f":"IF(合成オッズ計算表!L13>=1,1/合成オッズ計算表!L13,\"\")","v":""},{"$f":"IF(合成オッズ計算表!N13>=1,1/合成オッズ計算表!N13,\"\")","v":""},{"$f":"IF(合成オッズ計算表!P13>=1,1/合成オッズ計算表!P13,\"\")","v":""},{"$f":"IF(合成オッズ計算表!R13>=1,1/合成オッズ計算表!R13,\"\")","v":""}]
[{"$f":"IF(合成オッズ計算表!D14>=1,1/合成オッズ計算表!D14,\"\")","v":""},{"$f":"IF(合成オッズ計算表!F14>=1,1/合成オッズ計算表!F14,\"\")","v":""},{"$f":"IF(合成オッズ計算表!H14>=1,1/合成オッズ計算表!H14,\"\")","v":""},{"$f":"IF(合成オッズ計算表!J14>=1,1/合成オッズ計算表!J14,\"\")","v":""},{"$f":"IF(合成オッズ計算表!L14>=1,1/合成オッズ計算表!L14,\"\")","v":""},{"$f":"IF(合成オッズ計算表!N14>=1,1/合成オッズ計算表!N14,\"\")","v":""},{"$f":"IF(合成オッズ計算表!P14>=1,1/合成オッズ計算表!P14,\"\")","v":""},{"$f":"IF(合成オッズ計算表!R14>=1,1/合成オッズ計算表!R14,\"\")","v":""}]
[{"$f":"IF(合成オッズ計算表!D15>=1,1/合成オッズ計算表!D15,\"\")","v":""},{"$f":"IF(合成オッズ計算表!F15>=1,1/合成オッズ計算表!F15,\"\")","v":""},{"$f":"IF(合成オッズ計算表!H15>=1,1/合成オッズ計算表!H15,\"\")","v":""},{"$f":"IF(合成オッズ計算表!J15>=1,1/合成オッズ計算表!J15,\"\")","v":""},{"$f":"IF(合成オッズ計算表!L15>=1,1/合成オッズ計算表!L15,\"\")","v":""},{"$f":"IF(合成オッズ計算表!N15>=1,1/合成オッズ計算表!N15,\"\")","v":""},{"$f":"IF(合成オッズ計算表!P15>=1,1/合成オッズ計算表!P15,\"\")","v":""},{"$f":"IF(合成オッズ計算表!R15>=1,1/合成オッズ計算表!R15,\"\")","v":""}]
[{"$f":"IF(合成オッズ計算表!D16>=1,1/合成オッズ計算表!D16,\"\")","v":""},{"$f":"IF(合成オッズ計算表!F16>=1,1/合成オッズ計算表!F16,\"\")","v":""},{"$f":"IF(合成オッズ計算表!H16>=1,1/合成オッズ計算表!H16,\"\")","v":""},{"$f":"IF(合成オッズ計算表!J16>=1,1/合成オッズ計算表!J16,\"\")","v":""},{"$f":"IF(合成オッズ計算表!L16>=1,1/合成オッズ計算表!L16,\"\")","v":""},{"$f":"IF(合成オッズ計算表!N16>=1,1/合成オッズ計算表!N16,\"\")","v":""},{"$f":"IF(合成オッズ計算表!P16>=1,1/合成オッズ計算表!P16,\"\")","v":""},{"$f":"IF(合成オッズ計算表!R16>=1,1/合成オッズ計算表!R16,\"\")","v":""}]
[{"$f":"IF(合成オッズ計算表!D17>=1,1/合成オッズ計算表!D17,\"\")","v":""},{"$f":"IF(合成オッズ計算表!F17>=1,1/合成オッズ計算表!F17,\"\")","v":""},{"$f":"IF(合成オッズ計算表!H17>=1,1/合成オッズ計算表!H17,\"\")","v":""},{"$f":"IF(合成オッズ計算表!J17>=1,1/合成オッズ計算表!J17,\"\")","v":""},{"$f":"IF(合成オッズ計算表!L17>=1,1/合成オッズ計算表!L17,\"\")","v":""},{"$f":"IF(合成オッズ計算表!N17>=1,1/合成オッズ計算表!N17,\"\")","v":""},{"$f":"IF(合成オッズ計算表!P17>=1,1/合成オッズ計算表!P17,\"\")","v":""},{"$f":"IF(合成オッズ計算表!R17>=1,1/合成オッズ計算表!R17,\"\")","v":""}]
[{"$f":"IF(合成オッズ計算表!D18>=1,1/合成オッズ計算表!D18,\"\")","v":""},{"$f":"IF(合成オッズ計算表!F18>=1,1/合成オッズ計算表!F18,\"\")","v":""},{"$f":"IF(合成オッズ計算表!H18>=1,1/合成オッズ計算表!H18,\"\")","v":""},{"$f":"IF(合成オッズ計算表!J18>=1,1/合成オッズ計算表!J18,\"\")","v":""},{"$f":"IF(合成オッズ計算表!L18>=1,1/合成オッズ計算表!L18,\"\")","v":""},{"$f":"IF(合成オッズ計算表!N18>=1,1/合成オッズ計算表!N18,\"\")","v":""},{"$f":"IF(合成オッズ計算表!P18>=1,1/合成オッズ計算表!P18,\"\")","v":""},{"$f":"IF(合成オッズ計算表!R18>=1,1/合成オッズ計算表!R18,\"\")","v":""}]
[{"$f":"IF(合成オッズ計算表!D19>=1,1/合成オッズ計算表!D19,\"\")","v":""},{"$f":"IF(合成オッズ計算表!F19>=1,1/合成オッズ計算表!F19,\"\")","v":""},{"$f":"IF(合成オッズ計算表!H19>=1,1/合成オッズ計算表!H19,\"\")","v":""},{"$f":"IF(合成オッズ計算表!J19>=1,1/合成オッズ計算表!J19,\"\")","v":""},{"$f":"IF(合成オッズ計算表!L19>=1,1/合成オッズ計算表!L19,\"\")","v":""},{"$f":"IF(合成オッズ計算表!N19>=1,1/合成オッズ計算表!N19,\"\")","v":""},{"$f":"IF(合成オッズ計算表!P19>=1,1/合成オッズ計算表!P19,\"\")","v":""},{"$f":"IF(合成オッズ計算表!R19>=1,1/合成オッズ計算表!R19,\"\")","v":""}]
[{"$f":"IF(合成オッズ計算表!D20>=1,1/合成オッズ計算表!D20,\"\")","v":""},{"$f":"IF(合成オッズ計算表!F20>=1,1/合成オッズ計算表!F20,\"\")","v":""},{"$f":"IF(合成オッズ計算表!H20>=1,1/合成オッズ計算表!H20,\"\")","v":""},{"$f":"IF(合成オッズ計算表!J20>=1,1/合成オッズ計算表!J20,\"\")","v":""},{"$f":"IF(合成オッズ計算表!L20>=1,1/合成オッズ計算表!L20,\"\")","v":""},{"$f":"IF(合成オッズ計算表!N20>=1,1/合成オッズ計算表!N20,\"\")","v":""},{"$f":"IF(合成オッズ計算表!P20>=1,1/合成オッズ計算表!P20,\"\")","v":""},{"$f":"IF(合成オッズ計算表!R20>=1,1/合成オッズ計算表!R20,\"\")","v":""}]
[{"$f":"IF(合成オッズ計算表!D21>=1,1/合成オッズ計算表!D21,\"\")","v":""},{"$f":"IF(合成オッズ計算表!F21>=1,1/合成オッズ計算表!F21,\"\")","v":""},{"$f":"IF(合成オッズ計算表!H21>=1,1/合成オッズ計算表!H21,\"\")","v":""},{"$f":"IF(合成オッズ計算表!J21>=1,1/合成オッズ計算表!J21,\"\")","v":""},{"$f":"IF(合成オッズ計算表!L21>=1,1/合成オッズ計算表!L21,\"\")","v":""},{"$f":"IF(合成オッズ計算表!N21>=1,1/合成オッズ計算表!N21,\"\")","v":""},{"$f":"IF(合成オッズ計算表!P21>=1,1/合成オッズ計算表!P21,\"\")","v":""},{"$f":"IF(合成オッズ計算表!R21>=1,1/合成オッズ計算表!R21,\"\")","v":""}]
[{"$f":"IF(合成オッズ計算表!D22>=1,1/合成オッズ計算表!D22,\"\")","v":""},{"$f":"IF(合成オッズ計算表!F22>=1,1/合成オッズ計算表!F22,\"\")","v":""},{"$f":"IF(合成オッズ計算表!H22>=1,1/合成オッズ計算表!H22,\"\")","v":""},{"$f":"IF(合成オッズ計算表!J22>=1,1/合成オッズ計算表!J22,\"\")","v":""},{"$f":"IF(合成オッズ計算表!L22>=1,1/合成オッズ計算表!L22,\"\")","v":""},{"$f":"IF(合成オッズ計算表!N22>=1,1/合成オッズ計算表!N22,\"\")","v":""},{"$f":"IF(合成オッズ計算表!P22>=1,1/合成オッズ計算表!P22,\"\")","v":""},{"$f":"IF(合成オッズ計算表!R22>=1,1/合成オッズ計算表!R22,\"\")","v":""}]
[{"$f":"IF(合成オッズ計算表!D23>=1,1/合成オッズ計算表!D23,\"\")","v":""},{"$f":"IF(合成オッズ計算表!F23>=1,1/合成オッズ計算表!F23,\"\")","v":""},{"$f":"IF(合成オッズ計算表!H23>=1,1/合成オッズ計算表!H23,\"\")","v":""},{"$f":"IF(合成オッズ計算表!J23>=1,1/合成オッズ計算表!J23,\"\")","v":""},{"$f":"IF(合成オッズ計算表!L23>=1,1/合成オッズ計算表!L23,\"\")","v":""},{"$f":"IF(合成オッズ計算表!N23>=1,1/合成オッズ計算表!N23,\"\")","v":""},{"$f":"IF(合成オッズ計算表!P23>=1,1/合成オッズ計算表!P23,\"\")","v":""},{"$f":"IF(合成オッズ計算表!R23>=1,1/合成オッズ計算表!R23,\"\")","v":""}]
[{"$f":"IF(合成オッズ計算表!D24>=1,1/合成オッズ計算表!D24,\"\")","v":""},{"$f":"IF(合成オッズ計算表!F24>=1,1/合成オッズ計算表!F24,\"\")","v":""},{"$f":"IF(合成オッズ計算表!H24>=1,1/合成オッズ計算表!H24,\"\")","v":""},{"$f":"IF(合成オッズ計算表!J24>=1,1/合成オッズ計算表!J24,\"\")","v":""},{"$f":"IF(合成オッズ計算表!L24>=1,1/合成オッズ計算表!L24,\"\")","v":""},{"$f":"IF(合成オッズ計算表!N24>=1,1/合成オッズ計算表!N24,\"\")","v":""},{"$f":"IF(合成オッズ計算表!P24>=1,1/合成オッズ計算表!P24,\"\")","v":""},{"$f":"IF(合成オッズ計算表!R24>=1,1/合成オッズ計算表!R24,\"\")","v":""}]
[{"$f":"IF(合成オッズ計算表!D25>=1,1/合成オッズ計算表!D25,\"\")","v":""},{"$f":"IF(合成オッズ計算表!F25>=1,1/合成オッズ計算表!F25,\"\")","v":""},{"$f":"IF(合成オッズ計算表!H25>=1,1/合成オッズ計算表!H25,\"\")","v":""},{"$f":"IF(合成オッズ計算表!J25>=1,1/合成オッズ計算表!J25,\"\")","v":""},{"$f":"IF(合成オッズ計算表!L25>=1,1/合成オッズ計算表!L25,\"\")","v":""},{"$f":"IF(合成オッズ計算表!N25>=1,1/合成オッズ計算表!N25,\"\")","v":""},{"$f":"IF(合成オッズ計算表!P25>=1,1/合成オッズ計算表!P25,\"\")","v":""},{"$f":"IF(合成オッズ計算表!R25>=1,1/合成オッズ計算表!R25,\"\")","v":""}]
[{"$f":"IF(合成オッズ計算表!D26>=1,1/合成オッズ計算表!D26,\"\")","v":""},{"$f":"IF(合成オッズ計算表!F26>=1,1/合成オッズ計算表!F26,\"\")","v":""},{"$f":"IF(合成オッズ計算表!H26>=1,1/合成オッズ計算表!H26,\"\")","v":""},{"$f":"IF(合成オッズ計算表!J26>=1,1/合成オッズ計算表!J26,\"\")","v":""},{"$f":"IF(合成オッズ計算表!L26>=1,1/合成オッズ計算表!L26,\"\")","v":""},{"$f":"IF(合成オッズ計算表!N26>=1,1/合成オッズ計算表!N26,\"\")","v":""},{"$f":"IF(合成オッズ計算表!P26>=1,1/合成オッズ計算表!P26,\"\")","v":""},{"$f":"IF(合成オッズ計算表!R26>=1,1/合成オッズ計算表!R26,\"\")","v":""}]
[{"$f":"IF(合成オッズ計算表!D27>=1,1/合成オッズ計算表!D27,\"\")","v":""},{"$f":"IF(合成オッズ計算表!F27>=1,1/合成オッズ計算表!F27,\"\")","v":""},{"$f":"IF(合成オッズ計算表!H27>=1,1/合成オッズ計算表!H27,\"\")","v":""},{"$f":"IF(合成オッズ計算表!J27>=1,1/合成オッズ計算表!J27,\"\")","v":""},{"$f":"IF(合成オッズ計算表!L27>=1,1/合成オッズ計算表!L27,\"\")","v":""},{"$f":"IF(合成オッズ計算表!N27>=1,1/合成オッズ計算表!N27,\"\")","v":""},{"$f":"IF(合成オッズ計算表!P27>=1,1/合成オッズ計算表!P27,\"\")","v":""},{"$f":"IF(合成オッズ計算表!R27>=1,1/合成オッズ計算表!R27,\"\")","v":""}]
[{"$f":"IF(合成オッズ計算表!D28>=1,1/合成オッズ計算表!D28,\"\")","v":""},{"$f":"IF(合成オッズ計算表!F28>=1,1/合成オッズ計算表!F28,\"\")","v":""},{"$f":"IF(合成オッズ計算表!H28>=1,1/合成オッズ計算表!H28,\"\")","v":""},{"$f":"IF(合成オッズ計算表!J28>=1,1/合成オッズ計算表!J28,\"\")","v":""},{"$f":"IF(合成オッズ計算表!L28>=1,1/合成オッズ計算表!L28,\"\")","v":""},{"$f":"IF(合成オッズ計算表!N28>=1,1/合成オッズ計算表!N28,\"\")","v":""},{"$f":"IF(合成オッズ計算表!P28>=1,1/合成オッズ計算表!P28,\"\")","v":""},{"$f":"IF(合成オッズ計算表!R28>=1,1/合成オッズ計算表!R28,\"\")","v":""}]
[{"$f":"IF(合成オッズ計算表!D29>=1,1/合成オッズ計算表!D29,\"\")","v":""},{"$f":"IF(合成オッズ計算表!F29>=1,1/合成オッズ計算表!F29,\"\")","v":""},{"$f":"IF(合成オッズ計算表!H29>=1,1/合成オッズ計算表!H29,\"\")","v":""},{"$f":"IF(合成オッズ計算表!J29>=1,1/合成オッズ計算表!J29,\"\")","v":""},{"$f":"IF(合成オッズ計算表!L29>=1,1/合成オッズ計算表!L29,\"\")","v":""},{"$f":"IF(合成オッズ計算表!N29>=1,1/合成オッズ計算表!N29,\"\")","v":""},{"$f":"IF(合成オッズ計算表!P29>=1,1/合成オッズ計算表!P29,\"\")","v":""},{"$f":"IF(合成オッズ計算表!R29>=1,1/合成オッズ計算表!R29,\"\")","v":""}]
[{"$f":"IF(合成オッズ計算表!D30>=1,1/合成オッズ計算表!D30,\"\")","v":""},{"$f":"IF(合成オッズ計算表!F30>=1,1/合成オッズ計算表!F30,\"\")","v":""},{"$f":"IF(合成オッズ計算表!H30>=1,1/合成オッズ計算表!H30,\"\")","v":""},{"$f":"IF(合成オッズ計算表!J30>=1,1/合成オッズ計算表!J30,\"\")","v":""},{"$f":"IF(合成オッズ計算表!L30>=1,1/合成オッズ計算表!L30,\"\")","v":""},{"$f":"IF(合成オッズ計算表!N30>=1,1/合成オッズ計算表!N30,\"\")","v":""},{"$f":"IF(合成オッズ計算表!P30>=1,1/合成オッズ計算表!P30,\"\")","v":""},{"$f":"IF(合成オッズ計算表!R30>=1,1/合成オッズ計算表!R30,\"\")","v":""}]
[{"$f":"IF(合成オッズ計算表!D31>=1,1/合成オッズ計算表!D31,\"\")","v":""},{"$f":"IF(合成オッズ計算表!F31>=1,1/合成オッズ計算表!F31,\"\")","v":""},{"$f":"IF(合成オッズ計算表!H31>=1,1/合成オッズ計算表!H31,\"\")","v":""},{"$f":"IF(合成オッズ計算表!J31>=1,1/合成オッズ計算表!J31,\"\")","v":""},{"$f":"IF(合成オッズ計算表!L31>=1,1/合成オッズ計算表!L31,\"\")","v":""},{"$f":"IF(合成オッズ計算表!N31>=1,1/合成オッズ計算表!N31,\"\")","v":""},{"$f":"IF(合成オッズ計算表!P31>=1,1/合成オッズ計算表!P31,\"\")","v":""},{"$f":"IF(合成オッズ計算表!R31>=1,1/合成オッズ計算表!R31,\"\")","v":""}]
[{"$f":"IF(合成オッズ計算表!D32>=1,1/合成オッズ計算表!D32,\"\")","v":""},{"$f":"IF(合成オッズ計算表!F32>=1,1/合成オッズ計算表!F32,\"\")","v":""},{"$f":"IF(合成オッズ計算表!H32>=1,1/合成オッズ計算表!H32,\"\")","v":""},{"$f":"IF(合成オッズ計算表!J32>=1,1/合成オッズ計算表!J32,\"\")","v":""},{"$f":"IF(合成オッズ計算表!L32>=1,1/合成オッズ計算表!L32,\"\")","v":""},{"$f":"IF(合成オッズ計算表!N32>=1,1/合成オッズ計算表!N32,\"\")","v":""},{"$f":"IF(合成オッズ計算表!P32>=1,1/合成オッズ計算表!P32,\"\")","v":""},{"$f":"IF(合成オッズ計算表!R32>=1,1/合成オッズ計算表!R32,\"\")","v":""}]
[{"$f":"IF(合成オッズ計算表!D33>=1,1/合成オッズ計算表!D33,\"\")","v":""},{"$f":"IF(合成オッズ計算表!F33>=1,1/合成オッズ計算表!F33,\"\")","v":""},{"$f":"IF(合成オッズ計算表!H33>=1,1/合成オッズ計算表!H33,\"\")","v":""},{"$f":"IF(合成オッズ計算表!J33>=1,1/合成オッズ計算表!J33,\"\")","v":""},{"$f":"IF(合成オッズ計算表!L33>=1,1/合成オッズ計算表!L33,\"\")","v":""},{"$f":"IF(合成オッズ計算表!N33>=1,1/合成オッズ計算表!N33,\"\")","v":""},{"$f":"IF(合成オッズ計算表!P33>=1,1/合成オッズ計算表!P33,\"\")","v":""},{"$f":"IF(合成オッズ計算表!R33>=1,1/合成オッズ計算表!R33,\"\")","v":""}]
[{"$f":"IF(合成オッズ計算表!D34>=1,1/合成オッズ計算表!D34,\"\")","v":""},{"$f":"IF(合成オッズ計算表!F34>=1,1/合成オッズ計算表!F34,\"\")","v":""},{"$f":"IF(合成オッズ計算表!H34>=1,1/合成オッズ計算表!H34,\"\")","v":""},{"$f":"IF(合成オッズ計算表!J34>=1,1/合成オッズ計算表!J34,\"\")","v":""},{"$f":"IF(合成オッズ計算表!L34>=1,1/合成オッズ計算表!L34,\"\")","v":""},{"$f":"IF(合成オッズ計算表!N34>=1,1/合成オッズ計算表!N34,\"\")","v":""},{"$f":"IF(合成オッズ計算表!P34>=1,1/合成オッズ計算表!P34,\"\")","v":""},{"$f":"IF(合成オッズ計算表!R34>=1,1/合成オッズ計算表!R34,\"\")","v":""}]
[{"$f":"IF(合成オッズ計算表!D35>=1,1/合成オッズ計算表!D35,\"\")","v":""},{"$f":"IF(合成オッズ計算表!F35>=1,1/合成オッズ計算表!F35,\"\")","v":""},{"$f":"IF(合成オッズ計算表!H35>=1,1/合成オッズ計算表!H35,\"\")","v":""},{"$f":"IF(合成オッズ計算表!J35>=1,1/合成オッズ計算表!J35,\"\")","v":""},{"$f":"IF(合成オッズ計算表!L35>=1,1/合成オッズ計算表!L35,\"\")","v":""},{"$f":"IF(合成オッズ計算表!N35>=1,1/合成オッズ計算表!N35,\"\")","v":""},{"$f":"IF(合成オッズ計算表!P35>=1,1/合成オッズ計算表!P35,\"\")","v":""},{"$f":"IF(合成オッズ計算表!R35>=1,1/合成オッズ計算表!R35,\"\")","v":""}]
[{"$f":"IF(合成オッズ計算表!D36>=1,1/合成オッズ計算表!D36,\"\")","v":""},{"$f":"IF(合成オッズ計算表!F36>=1,1/合成オッズ計算表!F36,\"\")","v":""},{"$f":"IF(合成オッズ計算表!H36>=1,1/合成オッズ計算表!H36,\"\")","v":""},{"$f":"IF(合成オッズ計算表!J36>=1,1/合成オッズ計算表!J36,\"\")","v":""},{"$f":"IF(合成オッズ計算表!L36>=1,1/合成オッズ計算表!L36,\"\")","v":""},{"$f":"IF(合成オッズ計算表!N36>=1,1/合成オッズ計算表!N36,\"\")","v":""},{"$f":"IF(合成オッズ計算表!P36>=1,1/合成オッズ計算表!P36,\"\")","v":""},{"$f":"IF(合成オッズ計算表!R36>=1,1/合成オッズ計算表!R36,\"\")","v":""}]
[{"$f":"IF(合成オッズ計算表!D37>=1,1/合成オッズ計算表!D37,\"\")","v":""},{"$f":"IF(合成オッズ計算表!F37>=1,1/合成オッズ計算表!F37,\"\")","v":""},{"$f":"IF(合成オッズ計算表!H37>=1,1/合成オッズ計算表!H37,\"\")","v":""},{"$f":"IF(合成オッズ計算表!J37>=1,1/合成オッズ計算表!J37,\"\")","v":""},{"$f":"IF(合成オッズ計算表!L37>=1,1/合成オッズ計算表!L37,\"\")","v":""},{"$f":"IF(合成オッズ計算表!N37>=1,1/合成オッズ計算表!N37,\"\")","v":""},{"$f":"IF(合成オッズ計算表!P37>=1,1/合成オッズ計算表!P37,\"\")","v":""},{"$f":"IF(合成オッズ計算表!R37>=1,1/合成オッズ計算表!R37,\"\")","v":""}]
[{"$f":"IF(合成オッズ計算表!D38>=1,1/合成オッズ計算表!D38,\"\")","v":""},{"$f":"IF(合成オッズ計算表!F38>=1,1/合成オッズ計算表!F38,\"\")","v":""},{"$f":"IF(合成オッズ計算表!H38>=1,1/合成オッズ計算表!H38,\"\")","v":""},{"$f":"IF(合成オッズ計算表!J38>=1,1/合成オッズ計算表!J38,\"\")","v":""},{"$f":"IF(合成オッズ計算表!L38>=1,1/合成オッズ計算表!L38,\"\")","v":""},{"$f":"IF(合成オッズ計算表!N38>=1,1/合成オッズ計算表!N38,\"\")","v":""},{"$f":"IF(合成オッズ計算表!P38>=1,1/合成オッズ計算表!P38,\"\")","v":""},{"$f":"IF(合成オッズ計算表!R38>=1,1/合成オッズ計算表!R38,\"\")","v":""}]
[{"$f":"IF(合成オッズ計算表!D39>=1,1/合成オッズ計算表!D39,\"\")","v":""},{"$f":"IF(合成オッズ計算表!F39>=1,1/合成オッズ計算表!F39,\"\")","v":""},{"$f":"IF(合成オッズ計算表!H39>=1,1/合成オッズ計算表!H39,\"\")","v":""},{"$f":"IF(合成オッズ計算表!J39>=1,1/合成オッズ計算表!J39,\"\")","v":""},{"$f":"IF(合成オッズ計算表!L39>=1,1/合成オッズ計算表!L39,\"\")","v":""},{"$f":"IF(合成オッズ計算表!N39>=1,1/合成オッズ計算表!N39,\"\")","v":""},{"$f":"IF(合成オッズ計算表!P39>=1,1/合成オッズ計算表!P39,\"\")","v":""},{"$f":"IF(合成オッズ計算表!R39>=1,1/合成オッズ計算表!R39,\"\")","v":""}]
[{"$f":"IF(合成オッズ計算表!D40>=1,1/合成オッズ計算表!D40,\"\")","v":""},{"$f":"IF(合成オッズ計算表!F40>=1,1/合成オッズ計算表!F40,\"\")","v":""},{"$f":"IF(合成オッズ計算表!H40>=1,1/合成オッズ計算表!H40,\"\")","v":""},{"$f":"IF(合成オッズ計算表!J40>=1,1/合成オッズ計算表!J40,\"\")","v":""},{"$f":"IF(合成オッズ計算表!L40>=1,1/合成オッズ計算表!L40,\"\")","v":""},{"$f":"IF(合成オッズ計算表!N40>=1,1/合成オッズ計算表!N40,\"\")","v":""},{"$f":"IF(合成オッズ計算表!P40>=1,1/合成オッズ計算表!P40,\"\")","v":""},{"$f":"IF(合成オッズ計算表!R40>=1,1/合成オッズ計算表!R40,\"\")","v":""}]
[{"$f":"IF(合成オッズ計算表!D41>=1,1/合成オッズ計算表!D41,\"\")","v":""},{"$f":"IF(合成オッズ計算表!F41>=1,1/合成オッズ計算表!F41,\"\")","v":""},{"$f":"IF(合成オッズ計算表!H41>=1,1/合成オッズ計算表!H41,\"\")","v":""},{"$f":"IF(合成オッズ計算表!J41>=1,1/合成オッズ計算表!J41,\"\")","v":""},{"$f":"IF(合成オッズ計算表!L41>=1,1/合成オッズ計算表!L41,\"\")","v":""},{"$f":"IF(合成オッズ計算表!N41>=1,1/合成オッズ計算表!N41,\"\")","v":""},{"$f":"IF(合成オッズ計算表!P41>=1,1/合成オッズ計算表!P41,\"\")","v":""},{"$f":"IF(合成オッズ計算表!R41>=1,1/合成オッズ計算表!R41,\"\")","v":""}]
[{"$f":"IF(合成オッズ計算表!D42>=1,1/合成オッズ計算表!D42,\"\")","v":""},{"$f":"IF(合成オッズ計算表!F42>=1,1/合成オッズ計算表!F42,\"\")","v":""},{"$f":"IF(合成オッズ計算表!H42>=1,1/合成オッズ計算表!H42,\"\")","v":""},{"$f":"IF(合成オッズ計算表!J42>=1,1/合成オッズ計算表!J42,\"\")","v":""},{"$f":"IF(合成オッズ計算表!L42>=1,1/合成オッズ計算表!L42,\"\")","v":""},{"$f":"IF(合成オッズ計算表!N42>=1,1/合成オッズ計算表!N42,\"\")","v":""},{"$f":"IF(合成オッズ計算表!P42>=1,1/合成オッズ計算表!P42,\"\")","v":""},{"$f":"IF(合成オッズ計算表!R42>=1,1/合成オッズ計算表!R42,\"\")","v":""}]
[{"$f":"IF(合成オッズ計算表!D43>=1,1/合成オッズ計算表!D43,\"\")","v":""},{"$f":"IF(合成オッズ計算表!F43>=1,1/合成オッズ計算表!F43,\"\")","v":""},{"$f":"IF(合成オッズ計算表!H43>=1,1/合成オッズ計算表!H43,\"\")","v":""},{"$f":"IF(合成オッズ計算表!J43>=1,1/合成オッズ計算表!J43,\"\")","v":""},{"$f":"IF(合成オッズ計算表!L43>=1,1/合成オッズ計算表!L43,\"\")","v":""},{"$f":"IF(合成オッズ計算表!N43>=1,1/合成オッズ計算表!N43,\"\")","v":""},{"$f":"IF(合成オッズ計算表!P43>=1,1/合成オッズ計算表!P43,\"\")","v":""},{"$f":"IF(合成オッズ計算表!R43>=1,1/合成オッズ計算表!R43,\"\")","v":""}]
[{"$f":"IF(合成オッズ計算表!D44>=1,1/合成オッズ計算表!D44,\"\")","v":""},{"$f":"IF(合成オッズ計算表!F44>=1,1/合成オッズ計算表!F44,\"\")","v":""},{"$f":"IF(合成オッズ計算表!H44>=1,1/合成オッズ計算表!H44,\"\")","v":""},{"$f":"IF(合成オッズ計算表!J44>=1,1/合成オッズ計算表!J44,\"\")","v":""},{"$f":"IF(合成オッズ計算表!L44>=1,1/合成オッズ計算表!L44,\"\")","v":""},{"$f":"IF(合成オッズ計算表!N44>=1,1/合成オッズ計算表!N44,\"\")","v":""},{"$f":"IF(合成オッズ計算表!P44>=1,1/合成オッズ計算表!P44,\"\")","v":""},{"$f":"IF(合成オッズ計算表!R44>=1,1/合成オッズ計算表!R44,\"\")","v":""}]
[{"$f":"IF(合成オッズ計算表!D45>=1,1/合成オッズ計算表!D45,\"\")","v":""},{"$f":"IF(合成オッズ計算表!F45>=1,1/合成オッズ計算表!F45,\"\")","v":""},{"$f":"IF(合成オッズ計算表!H45>=1,1/合成オッズ計算表!H45,\"\")","v":""},{"$f":"IF(合成オッズ計算表!J45>=1,1/合成オッズ計算表!J45,\"\")","v":""},{"$f":"IF(合成オッズ計算表!L45>=1,1/合成オッズ計算表!L45,\"\")","v":""},{"$f":"IF(合成オッズ計算表!N45>=1,1/合成オッズ計算表!N45,\"\")","v":""},{"$f":"IF(合成オッズ計算表!P45>=1,1/合成オッズ計算表!P45,\"\")","v":""},{"$f":"IF(合成オッズ計算表!R45>=1,1/合成オッズ計算表!R45,\"\")","v":""}]
[{"$f":"IF(合成オッズ計算表!D46>=1,1/合成オッズ計算表!D46,\"\")","v":""},{"$f":"IF(合成オッズ計算表!F46>=1,1/合成オッズ計算表!F46,\"\")","v":""},{"$f":"IF(合成オッズ計算表!H46>=1,1/合成オッズ計算表!H46,\"\")","v":""},{"$f":"IF(合成オッズ計算表!J46>=1,1/合成オッズ計算表!J46,\"\")","v":""},{"$f":"IF(合成オッズ計算表!L46>=1,1/合成オッズ計算表!L46,\"\")","v":""},{"$f":"IF(合成オッズ計算表!N46>=1,1/合成オッズ計算表!N46,\"\")","v":""},{"$f":"IF(合成オッズ計算表!P46>=1,1/合成オッズ計算表!P46,\"\")","v":""},{"$f":"IF(合成オッズ計算表!R46>=1,1/合成オッズ計算表!R46,\"\")","v":""}]
[{"$f":"IF(合成オッズ計算表!D47>=1,1/合成オッズ計算表!D47,\"\")","v":""},{"$f":"IF(合成オッズ計算表!F47>=1,1/合成オッズ計算表!F47,\"\")","v":""},{"$f":"IF(合成オッズ計算表!H47>=1,1/合成オッズ計算表!H47,\"\")","v":""},{"$f":"IF(合成オッズ計算表!J47>=1,1/合成オッズ計算表!J47,\"\")","v":""},{"$f":"IF(合成オッズ計算表!L47>=1,1/合成オッズ計算表!L47,\"\")","v":""},{"$f":"IF(合成オッズ計算表!N47>=1,1/合成オッズ計算表!N47,\"\")","v":""},{"$f":"IF(合成オッズ計算表!P47>=1,1/合成オッズ計算表!P47,\"\")","v":""},{"$f":"IF(合成オッズ計算表!R47>=1,1/合成オッズ計算表!R47,\"\")","v":""}]
[{"$f":"IF(合成オッズ計算表!D48>=1,1/合成オッズ計算表!D48,\"\")","v":""},{"$f":"IF(合成オッズ計算表!F48>=1,1/合成オッズ計算表!F48,\"\")","v":""},{"$f":"IF(合成オッズ計算表!H48>=1,1/合成オッズ計算表!H48,\"\")","v":""},{"$f":"IF(合成オッズ計算表!J48>=1,1/合成オッズ計算表!J48,\"\")","v":""},{"$f":"IF(合成オッズ計算表!L48>=1,1/合成オッズ計算表!L48,\"\")","v":""},{"$f":"IF(合成オッズ計算表!N48>=1,1/合成オッズ計算表!N48,\"\")","v":""},{"$f":"IF(合成オッズ計算表!P48>=1,1/合成オッズ計算表!P48,\"\")","v":""},{"$f":"IF(合成オッズ計算表!R48>=1,1/合成オッズ計算表!R48,\"\")","v":""}]
[{"$f":"IF(合成オッズ計算表!D49>=1,1/合成オッズ計算表!D49,\"\")","v":""},{"$f":"IF(合成オッズ計算表!F49>=1,1/合成オッズ計算表!F49,\"\")","v":""},{"$f":"IF(合成オッズ計算表!H49>=1,1/合成オッズ計算表!H49,\"\")","v":""},{"$f":"IF(合成オッズ計算表!J49>=1,1/合成オッズ計算表!J49,\"\")","v":""},{"$f":"IF(合成オッズ計算表!L49>=1,1/合成オッズ計算表!L49,\"\")","v":""},{"$f":"IF(合成オッズ計算表!N49>=1,1/合成オッズ計算表!N49,\"\")","v":""},{"$f":"IF(合成オッズ計算表!P49>=1,1/合成オッズ計算表!P49,\"\")","v":""},{"$f":"IF(合成オッズ計算表!R49>=1,1/合成オッズ計算表!R49,\"\")","v":""}]
[{"$f":"IF(合成オッズ計算表!D50>=1,1/合成オッズ計算表!D50,\"\")","v":""},{"$f":"IF(合成オッズ計算表!F50>=1,1/合成オッズ計算表!F50,\"\")","v":""},{"$f":"IF(合成オッズ計算表!H50>=1,1/合成オッズ計算表!H50,\"\")","v":""},{"$f":"IF(合成オッズ計算表!J50>=1,1/合成オッズ計算表!J50,\"\")","v":""},{"$f":"IF(合成オッズ計算表!L50>=1,1/合成オッズ計算表!L50,\"\")","v":""},{"$f":"IF(合成オッズ計算表!N50>=1,1/合成オッズ計算表!N50,\"\")","v":""},{"$f":"IF(合成オッズ計算表!P50>=1,1/合成オッズ計算表!P50,\"\")","v":""},{"$f":"IF(合成オッズ計算表!R50>=1,1/合成オッズ計算表!R50,\"\")","v":""}]
[{"$f":"IF(合成オッズ計算表!D51>=1,1/合成オッズ計算表!D51,\"\")","v":""},{"$f":"IF(合成オッズ計算表!F51>=1,1/合成オッズ計算表!F51,\"\")","v":""},{"$f":"IF(合成オッズ計算表!H51>=1,1/合成オッズ計算表!H51,\"\")","v":""},{"$f":"IF(合成オッズ計算表!J51>=1,1/合成オッズ計算表!J51,\"\")","v":""},{"$f":"IF(合成オッズ計算表!L51>=1,1/合成オッズ計算表!L51,\"\")","v":""},{"$f":"IF(合成オッズ計算表!N51>=1,1/合成オッズ計算表!N51,\"\")","v":""},{"$f":"IF(合成オッズ計算表!P51>=1,1/合成オッズ計算表!P51,\"\")","v":""},{"$f":"IF(合成オッズ計算表!R51>=1,1/合成オッズ計算表!R51,\"\")","v":""}]
[{"$f":"IF(合成オッズ計算表!D52>=1,1/合成オッズ計算表!D52,\"\")","v":""},{"$f":"IF(合成オッズ計算表!F52>=1,1/合成オッズ計算表!F52,\"\")","v":""},{"$f":"IF(合成オッズ計算表!H52>=1,1/合成オッズ計算表!H52,\"\")","v":""},{"$f":"IF(合成オッズ計算表!J52>=1,1/合成オッズ計算表!J52,\"\")","v":""},{"$f":"IF(合成オッズ計算表!L52>=1,1/合成オッズ計算表!L52,\"\")","v":""},{"$f":"IF(合成オッズ計算表!N52>=1,1/合成オッズ計算表!N52,\"\")","v":""},{"$f":"IF(合成オッズ計算表!P52>=1,1/合成オッズ計算表!P52,\"\")","v":""},{"$f":"IF(合成オッズ計算表!R52>=1,1/合成オッズ計算表!R52,\"\")","v":""}]
[{"$f":"IF(合成オッズ計算表!D53>=1,1/合成オッズ計算表!D53,\"\")","v":""},{"$f":"IF(合成オッズ計算表!F53>=1,1/合成オッズ計算表!F53,\"\")","v":""},{"$f":"IF(合成オッズ計算表!H53>=1,1/合成オッズ計算表!H53,\"\")","v":""},{"$f":"IF(合成オッズ計算表!J53>=1,1/合成オッズ計算表!J53,\"\")","v":""},{"$f":"IF(合成オッズ計算表!L53>=1,1/合成オッズ計算表!L53,\"\")","v":""},{"$f":"IF(合成オッズ計算表!N53>=1,1/合成オッズ計算表!N53,\"\")","v":""},{"$f":"IF(合成オッズ計算表!P53>=1,1/合成オッズ計算表!P53,\"\")","v":""},{"$f":"IF(合成オッズ計算表!R53>=1,1/合成オッズ計算表!R53,\"\")","v":""}]
[{"$f":"IF(合成オッズ計算表!D54>=1,1/合成オッズ計算表!D54,\"\")","v":""},{"$f":"IF(合成オッズ計算表!F54>=1,1/合成オッズ計算表!F54,\"\")","v":""},{"$f":"IF(合成オッズ計算表!H54>=1,1/合成オッズ計算表!H54,\"\")","v":""},{"$f":"IF(合成オッズ計算表!J54>=1,1/合成オッズ計算表!J54,\"\")","v":""},{"$f":"IF(合成オッズ計算表!L54>=1,1/合成オッズ計算表!L54,\"\")","v":""},{"$f":"IF(合成オッズ計算表!N54>=1,1/合成オッズ計算表!N54,\"\")","v":""},{"$f":"IF(合成オッズ計算表!P54>=1,1/合成オッズ計算表!P54,\"\")","v":""},{"$f":"IF(合成オッズ計算表!R54>=1,1/合成オッズ計算表!R54,\"\")","v":""}]
[{"$f":"IF(合成オッズ計算表!D55>=1,1/合成オッズ計算表!D55,\"\")","v":""},{"$f":"IF(合成オッズ計算表!F55>=1,1/合成オッズ計算表!F55,\"\")","v":""},{"$f":"IF(合成オッズ計算表!H55>=1,1/合成オッズ計算表!H55,\"\")","v":""},{"$f":"IF(合成オッズ計算表!J55>=1,1/合成オッズ計算表!J55,\"\")","v":""},{"$f":"IF(合成オッズ計算表!L55>=1,1/合成オッズ計算表!L55,\"\")","v":""},{"$f":"IF(合成オッズ計算表!N55>=1,1/合成オッズ計算表!N55,\"\")","v":""},{"$f":"IF(合成オッズ計算表!P55>=1,1/合成オッズ計算表!P55,\"\")","v":""},{"$f":"IF(合成オッズ計算表!R55>=1,1/合成オッズ計算表!R55,\"\")","v":""}]
[{"$f":"IF(合成オッズ計算表!D56>=1,1/合成オッズ計算表!D56,\"\")","v":""},{"$f":"IF(合成オッズ計算表!F56>=1,1/合成オッズ計算表!F56,\"\")","v":""},{"$f":"IF(合成オッズ計算表!H56>=1,1/合成オッズ計算表!H56,\"\")","v":""},{"$f":"IF(合成オッズ計算表!J56>=1,1/合成オッズ計算表!J56,\"\")","v":""},{"$f":"IF(合成オッズ計算表!L56>=1,1/合成オッズ計算表!L56,\"\")","v":""},{"$f":"IF(合成オッズ計算表!N56>=1,1/合成オッズ計算表!N56,\"\")","v":""},{"$f":"IF(合成オッズ計算表!P56>=1,1/合成オッズ計算表!P56,\"\")","v":""},{"$f":"IF(合成オッズ計算表!R56>=1,1/合成オッズ計算表!R56,\"\")","v":""}]
[{"$f":"IF(合成オッズ計算表!D57>=1,1/合成オッズ計算表!D57,\"\")","v":""},{"$f":"IF(合成オッズ計算表!F57>=1,1/合成オッズ計算表!F57,\"\")","v":""},{"$f":"IF(合成オッズ計算表!H57>=1,1/合成オッズ計算表!H57,\"\")","v":""},{"$f":"IF(合成オッズ計算表!J57>=1,1/合成オッズ計算表!J57,\"\")","v":""},{"$f":"IF(合成オッズ計算表!L57>=1,1/合成オッズ計算表!L57,\"\")","v":""},{"$f":"IF(合成オッズ計算表!N57>=1,1/合成オッズ計算表!N57,\"\")","v":""},{"$f":"IF(合成オッズ計算表!P57>=1,1/合成オッズ計算表!P57,\"\")","v":""},{"$f":"IF(合成オッズ計算表!R57>=1,1/合成オッズ計算表!R57,\"\")","v":""}]
[{"$f":"IF(合成オッズ計算表!D58>=1,1/合成オッズ計算表!D58,\"\")","v":""},{"$f":"IF(合成オッズ計算表!F58>=1,1/合成オッズ計算表!F58,\"\")","v":""},{"$f":"IF(合成オッズ計算表!H58>=1,1/合成オッズ計算表!H58,\"\")","v":""},{"$f":"IF(合成オッズ計算表!J58>=1,1/合成オッズ計算表!J58,\"\")","v":""},{"$f":"IF(合成オッズ計算表!L58>=1,1/合成オッズ計算表!L58,\"\")","v":""},{"$f":"IF(合成オッズ計算表!N58>=1,1/合成オッズ計算表!N58,\"\")","v":""},{"$f":"IF(合成オッズ計算表!P58>=1,1/合成オッズ計算表!P58,\"\")","v":""},{"$f":"IF(合成オッズ計算表!R58>=1,1/合成オッズ計算表!R58,\"\")","v":""}]
[{"$f":"IF(合成オッズ計算表!D59>=1,1/合成オッズ計算表!D59,\"\")","v":""},{"$f":"IF(合成オッズ計算表!F59>=1,1/合成オッズ計算表!F59,\"\")","v":""},{"$f":"IF(合成オッズ計算表!H59>=1,1/合成オッズ計算表!H59,\"\")","v":""},{"$f":"IF(合成オッズ計算表!J59>=1,1/合成オッズ計算表!J59,\"\")","v":""},{"$f":"IF(合成オッズ計算表!L59>=1,1/合成オッズ計算表!L59,\"\")","v":""},{"$f":"IF(合成オッズ計算表!N59>=1,1/合成オッズ計算表!N59,\"\")","v":""},{"$f":"IF(合成オッズ計算表!P59>=1,1/合成オッズ計算表!P59,\"\")","v":""},{"$f":"IF(合成オッズ計算表!R59>=1,1/合成オッズ計算表!R59,\"\")","v":""}]
[{"$f":"IF(合成オッズ計算表!D60>=1,1/合成オッズ計算表!D60,\"\")","v":""},{"$f":"IF(合成オッズ計算表!F60>=1,1/合成オッズ計算表!F60,\"\")","v":""},{"$f":"IF(合成オッズ計算表!H60>=1,1/合成オッズ計算表!H60,\"\")","v":""},{"$f":"IF(合成オッズ計算表!J60>=1,1/合成オッズ計算表!J60,\"\")","v":""},{"$f":"IF(合成オッズ計算表!L60>=1,1/合成オッズ計算表!L60,\"\")","v":""},{"$f":"IF(合成オッズ計算表!N60>=1,1/合成オッズ計算表!N60,\"\")","v":""},{"$f":"IF(合成オッズ計算表!P60>=1,1/合成オッズ計算表!P60,\"\")","v":""},{"$f":"IF(合成オッズ計算表!R60>=1,1/合成オッズ計算表!R60,\"\")","v":""}]
[{"$f":"IF(合成オッズ計算表!D61>=1,1/合成オッズ計算表!D61,\"\")","v":""},{"$f":"IF(合成オッズ計算表!F61>=1,1/合成オッズ計算表!F61,\"\")","v":""},{"$f":"IF(合成オッズ計算表!H61>=1,1/合成オッズ計算表!H61,\"\")","v":""},{"$f":"IF(合成オッズ計算表!J61>=1,1/合成オッズ計算表!J61,\"\")","v":""},{"$f":"IF(合成オッズ計算表!L61>=1,1/合成オッズ計算表!L61,\"\")","v":""},{"$f":"IF(合成オッズ計算表!N61>=1,1/合成オッズ計算表!N61,\"\")","v":""},{"$f":"IF(合成オッズ計算表!P61>=1,1/合成オッズ計算表!P61,\"\")","v":""},{"$f":"IF(合成オッズ計算表!R61>=1,1/合成オッズ計算表!R61,\"\")","v":""}]
[{"$f":"IF(合成オッズ計算表!D62>=1,1/合成オッズ計算表!D62,\"\")","v":""},{"$f":"IF(合成オッズ計算表!F62>=1,1/合成オッズ計算表!F62,\"\")","v":""},{"$f":"IF(合成オッズ計算表!H62>=1,1/合成オッズ計算表!H62,\"\")","v":""},{"$f":"IF(合成オッズ計算表!J62>=1,1/合成オッズ計算表!J62,\"\")","v":""},{"$f":"IF(合成オッズ計算表!L62>=1,1/合成オッズ計算表!L62,\"\")","v":""},{"$f":"IF(合成オッズ計算表!N62>=1,1/合成オッズ計算表!N62,\"\")","v":""},{"$f":"IF(合成オッズ計算表!P62>=1,1/合成オッズ計算表!P62,\"\")","v":""},{"$f":"IF(合成オッズ計算表!R62>=1,1/合成オッズ計算表!R62,\"\")","v":""}]
[{"$f":"IF(合成オッズ計算表!D63>=1,1/合成オッズ計算表!D63,\"\")","v":""},{"$f":"IF(合成オッズ計算表!F63>=1,1/合成オッズ計算表!F63,\"\")","v":""},{"$f":"IF(合成オッズ計算表!H63>=1,1/合成オッズ計算表!H63,\"\")","v":""},{"$f":"IF(合成オッズ計算表!J63>=1,1/合成オッズ計算表!J63,\"\")","v":""},{"$f":"IF(合成オッズ計算表!L63>=1,1/合成オッズ計算表!L63,\"\")","v":""},{"$f":"IF(合成オッズ計算表!N63>=1,1/合成オッズ計算表!N63,\"\")","v":""},{"$f":"IF(合成オッズ計算表!P63>=1,1/合成オッズ計算表!P63,\"\")","v":""},{"$f":"IF(合成オッズ計算表!R63>=1,1/合成オッズ計算表!R63,\"\")","v":""}]
[{"$f":"IF(合成オッズ計算表!D64>=1,1/合成オッズ計算表!D64,\"\")","v":""},{"$f":"IF(合成オッズ計算表!F64>=1,1/合成オッズ計算表!F64,\"\")","v":""},{"$f":"IF(合成オッズ計算表!H64>=1,1/合成オッズ計算表!H64,\"\")","v":""},{"$f":"IF(合成オッズ計算表!J64>=1,1/合成オッズ計算表!J64,\"\")","v":""},{"$f":"IF(合成オッズ計算表!L64>=1,1/合成オッズ計算表!L64,\"\")","v":""},{"$f":"IF(合成オッズ計算表!N64>=1,1/合成オッズ計算表!N64,\"\")","v":""},{"$f":"IF(合成オッズ計算表!P64>=1,1/合成オッズ計算表!P64,\"\")","v":""},{"$f":"IF(合成オッズ計算表!R64>=1,1/合成オッズ計算表!R64,\"\")","v":""}]
[{"$f":"IF(合成オッズ計算表!D65>=1,1/合成オッズ計算表!D65,\"\")","v":""},{"$f":"IF(合成オッズ計算表!F65>=1,1/合成オッズ計算表!F65,\"\")","v":""},{"$f":"IF(合成オッズ計算表!H65>=1,1/合成オッズ計算表!H65,\"\")","v":""},{"$f":"IF(合成オッズ計算表!J65>=1,1/合成オッズ計算表!J65,\"\")","v":""},{"$f":"IF(合成オッズ計算表!L65>=1,1/合成オッズ計算表!L65,\"\")","v":""},{"$f":"IF(合成オッズ計算表!N65>=1,1/合成オッズ計算表!N65,\"\")","v":""},{"$f":"IF(合成オッズ計算表!P65>=1,1/合成オッズ計算表!P65,\"\")","v":""},{"$f":"IF(合成オッズ計算表!R65>=1,1/合成オッズ計算表!R65,\"\")","v":""}]
[{"$f":"IF(合成オッズ計算表!D66>=1,1/合成オッズ計算表!D66,\"\")","v":""},{"$f":"IF(合成オッズ計算表!F66>=1,1/合成オッズ計算表!F66,\"\")","v":""},{"$f":"IF(合成オッズ計算表!H66>=1,1/合成オッズ計算表!H66,\"\")","v":""},{"$f":"IF(合成オッズ計算表!J66>=1,1/合成オッズ計算表!J66,\"\")","v":""},{"$f":"IF(合成オッズ計算表!L66>=1,1/合成オッズ計算表!L66,\"\")","v":""},{"$f":"IF(合成オッズ計算表!N66>=1,1/合成オッズ計算表!N66,\"\")","v":""},{"$f":"IF(合成オッズ計算表!P66>=1,1/合成オッズ計算表!P66,\"\")","v":""},{"$f":"IF(合成オッズ計算表!R66>=1,1/合成オッズ計算表!R66,\"\")","v":""}]
[{"$f":"IF(合成オッズ計算表!D67>=1,1/合成オッズ計算表!D67,\"\")","v":""},{"$f":"IF(合成オッズ計算表!F67>=1,1/合成オッズ計算表!F67,\"\")","v":""},{"$f":"IF(合成オッズ計算表!H67>=1,1/合成オッズ計算表!H67,\"\")","v":""},{"$f":"IF(合成オッズ計算表!J67>=1,1/合成オッズ計算表!J67,\"\")","v":""},{"$f":"IF(合成オッズ計算表!L67>=1,1/合成オッズ計算表!L67,\"\")","v":""},{"$f":"IF(合成オッズ計算表!N67>=1,1/合成オッズ計算表!N67,\"\")","v":""},{"$f":"IF(合成オッズ計算表!P67>=1,1/合成オッズ計算表!P67,\"\")","v":""},{"$f":"IF(合成オッズ計算表!R67>=1,1/合成オッズ計算表!R67,\"\")","v":""}]
[{"$f":"IF(合成オッズ計算表!D68>=1,1/合成オッズ計算表!D68,\"\")","v":""},{"$f":"IF(合成オッズ計算表!F68>=1,1/合成オッズ計算表!F68,\"\")","v":""},{"$f":"IF(合成オッズ計算表!H68>=1,1/合成オッズ計算表!H68,\"\")","v":""},{"$f":"IF(合成オッズ計算表!J68>=1,1/合成オッズ計算表!J68,\"\")","v":""},{"$f":"IF(合成オッズ計算表!L68>=1,1/合成オッズ計算表!L68,\"\")","v":""},{"$f":"IF(合成オッズ計算表!N68>=1,1/合成オッズ計算表!N68,\"\")","v":""},{"$f":"IF(合成オッズ計算表!P68>=1,1/合成オッズ計算表!P68,\"\")","v":""},{"$f":"IF(合成オッズ計算表!R68>=1,1/合成オッズ計算表!R68,\"\")","v":""}]
[{"$f":"IF(合成オッズ計算表!D69>=1,1/合成オッズ計算表!D69,\"\")","v":""},{"$f":"IF(合成オッズ計算表!F69>=1,1/合成オッズ計算表!F69,\"\")","v":""},{"$f":"IF(合成オッズ計算表!H69>=1,1/合成オッズ計算表!H69,\"\")","v":""},{"$f":"IF(合成オッズ計算表!J69>=1,1/合成オッズ計算表!J69,\"\")","v":""},{"$f":"IF(合成オッズ計算表!L69>=1,1/合成オッズ計算表!L69,\"\")","v":""},{"$f":"IF(合成オッズ計算表!N69>=1,1/合成オッズ計算表!N69,\"\")","v":""},{"$f":"IF(合成オッズ計算表!P69>=1,1/合成オッズ計算表!P69,\"\")","v":""},{"$f":"IF(合成オッズ計算表!R69>=1,1/合成オッズ計算表!R69,\"\")","v":""}]
[{"$f":"IF(合成オッズ計算表!D70>=1,1/合成オッズ計算表!D70,\"\")","v":""},{"$f":"IF(合成オッズ計算表!F70>=1,1/合成オッズ計算表!F70,\"\")","v":""},{"$f":"IF(合成オッズ計算表!H70>=1,1/合成オッズ計算表!H70,\"\")","v":""},{"$f":"IF(合成オッズ計算表!J70>=1,1/合成オッズ計算表!J70,\"\")","v":""},{"$f":"IF(合成オッズ計算表!L70>=1,1/合成オッズ計算表!L70,\"\")","v":""},{"$f":"IF(合成オッズ計算表!N70>=1,1/合成オッズ計算表!N70,\"\")","v":""},{"$f":"IF(合成オッズ計算表!P70>=1,1/合成オッズ計算表!P70,\"\")","v":""},{"$f":"IF(合成オッズ計算表!R70>=1,1/合成オッズ計算表!R70,\"\")","v":""}]
[{"$f":"IF(合成オッズ計算表!D71>=1,1/合成オッズ計算表!D71,\"\")","v":""},{"$f":"IF(合成オッズ計算表!F71>=1,1/合成オッズ計算表!F71,\"\")","v":""},{"$f":"IF(合成オッズ計算表!H71>=1,1/合成オッズ計算表!H71,\"\")","v":""},{"$f":"IF(合成オッズ計算表!J71>=1,1/合成オッズ計算表!J71,\"\")","v":""},{"$f":"IF(合成オッズ計算表!L71>=1,1/合成オッズ計算表!L71,\"\")","v":""},{"$f":"IF(合成オッズ計算表!N71>=1,1/合成オッズ計算表!N71,\"\")","v":""},{"$f":"IF(合成オッズ計算表!P71>=1,1/合成オッズ計算表!P71,\"\")","v":""},{"$f":"IF(合成オッズ計算表!R71>=1,1/合成オッズ計算表!R71,\"\")","v":""}]
[{"$f":"IF(合成オッズ計算表!D72>=1,1/合成オッズ計算表!D72,\"\")","v":""},{"$f":"IF(合成オッズ計算表!F72>=1,1/合成オッズ計算表!F72,\"\")","v":""},{"$f":"IF(合成オッズ計算表!H72>=1,1/合成オッズ計算表!H72,\"\")","v":""},{"$f":"IF(合成オッズ計算表!J72>=1,1/合成オッズ計算表!J72,\"\")","v":""},{"$f":"IF(合成オッズ計算表!L72>=1,1/合成オッズ計算表!L72,\"\")","v":""},{"$f":"IF(合成オッズ計算表!N72>=1,1/合成オッズ計算表!N72,\"\")","v":""},{"$f":"IF(合成オッズ計算表!P72>=1,1/合成オッズ計算表!P72,\"\")","v":""},{"$f":"IF(合成オッズ計算表!R72>=1,1/合成オッズ計算表!R72,\"\")","v":""}]
[{"$f":"IF(合成オッズ計算表!D73>=1,1/合成オッズ計算表!D73,\"\")","v":""},{"$f":"IF(合成オッズ計算表!F73>=1,1/合成オッズ計算表!F73,\"\")","v":""},{"$f":"IF(合成オッズ計算表!H73>=1,1/合成オッズ計算表!H73,\"\")","v":""},{"$f":"IF(合成オッズ計算表!J73>=1,1/合成オッズ計算表!J73,\"\")","v":""},{"$f":"IF(合成オッズ計算表!L73>=1,1/合成オッズ計算表!L73,\"\")","v":""},{"$f":"IF(合成オッズ計算表!N73>=1,1/合成オッズ計算表!N73,\"\")","v":""},{"$f":"IF(合成オッズ計算表!P73>=1,1/合成オッズ計算表!P73,\"\")","v":""},{"$f":"IF(合成オッズ計算表!R73>=1,1/合成オッズ計算表!R73,\"\")","v":""}]
[{"$f":"IF(合成オッズ計算表!D74>=1,1/合成オッズ計算表!D74,\"\")","v":""},{"$f":"IF(合成オッズ計算表!F74>=1,1/合成オッズ計算表!F74,\"\")","v":""},{"$f":"IF(合成オッズ計算表!H74>=1,1/合成オッズ計算表!H74,\"\")","v":""},{"$f":"IF(合成オッズ計算表!J74>=1,1/合成オッズ計算表!J74,\"\")","v":""},{"$f":"IF(合成オッズ計算表!L74>=1,1/合成オッズ計算表!L74,\"\")","v":""},{"$f":"IF(合成オッズ計算表!N74>=1,1/合成オッズ計算表!N74,\"\")","v":""},{"$f":"IF(合成オッズ計算表!P74>=1,1/合成オッズ計算表!P74,\"\")","v":""},{"$f":"IF(合成オッズ計算表!R74>=1,1/合成オッズ計算表!R74,\"\")","v":""}]
[{"$f":"IF(合成オッズ計算表!D75>=1,1/合成オッズ計算表!D75,\"\")","v":""},{"$f":"IF(合成オッズ計算表!F75>=1,1/合成オッズ計算表!F75,\"\")","v":""},{"$f":"IF(合成オッズ計算表!H75>=1,1/合成オッズ計算表!H75,\"\")","v":""},{"$f":"IF(合成オッズ計算表!J75>=1,1/合成オッズ計算表!J75,\"\")","v":""},{"$f":"IF(合成オッズ計算表!L75>=1,1/合成オッズ計算表!L75,\"\")","v":""},{"$f":"IF(合成オッズ計算表!N75>=1,1/合成オッズ計算表!N75,\"\")","v":""},{"$f":"IF(合成オッズ計算表!P75>=1,1/合成オッズ計算表!P75,\"\")","v":""},{"$f":"IF(合成オッズ計算表!R75>=1,1/合成オッズ計算表!R75,\"\")","v":""}]
[{"$f":"IF(合成オッズ計算表!D76>=1,1/合成オッズ計算表!D76,\"\")","v":""},{"$f":"IF(合成オッズ計算表!F76>=1,1/合成オッズ計算表!F76,\"\")","v":""},{"$f":"IF(合成オッズ計算表!H76>=1,1/合成オッズ計算表!H76,\"\")","v":""},{"$f":"IF(合成オッズ計算表!J76>=1,1/合成オッズ計算表!J76,\"\")","v":""},{"$f":"IF(合成オッズ計算表!L76>=1,1/合成オッズ計算表!L76,\"\")","v":""},{"$f":"IF(合成オッズ計算表!N76>=1,1/合成オッズ計算表!N76,\"\")","v":""},{"$f":"IF(合成オッズ計算表!P76>=1,1/合成オッズ計算表!P76,\"\")","v":""},{"$f":"IF(合成オッズ計算表!R76>=1,1/合成オッズ計算表!R76,\"\")","v":""}]
[{"$f":"IF(合成オッズ計算表!D77>=1,1/合成オッズ計算表!D77,\"\")","v":""},{"$f":"IF(合成オッズ計算表!F77>=1,1/合成オッズ計算表!F77,\"\")","v":""},{"$f":"IF(合成オッズ計算表!H77>=1,1/合成オッズ計算表!H77,\"\")","v":""},{"$f":"IF(合成オッズ計算表!J77>=1,1/合成オッズ計算表!J77,\"\")","v":""},{"$f":"IF(合成オッズ計算表!L77>=1,1/合成オッズ計算表!L77,\"\")","v":""},{"$f":"IF(合成オッズ計算表!N77>=1,1/合成オッズ計算表!N77,\"\")","v":""},{"$f":"IF(合成オッズ計算表!P77>=1,1/合成オッズ計算表!P77,\"\")","v":""},{"$f":"IF(合成オッズ計算表!R77>=1,1/合成オッズ計算表!R77,\"\")","v":""}]
[{"$f":"IF(合成オッズ計算表!D78>=1,1/合成オッズ計算表!D78,\"\")","v":""},{"$f":"IF(合成オッズ計算表!F78>=1,1/合成オッズ計算表!F78,\"\")","v":""},{"$f":"IF(合成オッズ計算表!H78>=1,1/合成オッズ計算表!H78,\"\")","v":""},{"$f":"IF(合成オッズ計算表!J78>=1,1/合成オッズ計算表!J78,\"\")","v":""},{"$f":"IF(合成オッズ計算表!L78>=1,1/合成オッズ計算表!L78,\"\")","v":""},{"$f":"IF(合成オッズ計算表!N78>=1,1/合成オッズ計算表!N78,\"\")","v":""},{"$f":"IF(合成オッズ計算表!P78>=1,1/合成オッズ計算表!P78,\"\")","v":""},{"$f":"IF(合成オッズ計算表!R78>=1,1/合成オッズ計算表!R78,\"\")","v":""}]
[{"$f":"IF(合成オッズ計算表!D79>=1,1/合成オッズ計算表!D79,\"\")","v":""},{"$f":"IF(合成オッズ計算表!F79>=1,1/合成オッズ計算表!F79,\"\")","v":""},{"$f":"IF(合成オッズ計算表!H79>=1,1/合成オッズ計算表!H79,\"\")","v":""},{"$f":"IF(合成オッズ計算表!J79>=1,1/合成オッズ計算表!J79,\"\")","v":""},{"$f":"IF(合成オッズ計算表!L79>=1,1/合成オッズ計算表!L79,\"\")","v":""},{"$f":"IF(合成オッズ計算表!N79>=1,1/合成オッズ計算表!N79,\"\")","v":""},{"$f":"IF(合成オッズ計算表!P79>=1,1/合成オッズ計算表!P79,\"\")","v":""},{"$f":"IF(合成オッズ計算表!R79>=1,1/合成オッズ計算表!R79,\"\")","v":""}]
[{"$f":"IF(合成オッズ計算表!D80>=1,1/合成オッズ計算表!D80,\"\")","v":""},{"$f":"IF(合成オッズ計算表!F80>=1,1/合成オッズ計算表!F80,\"\")","v":""},{"$f":"IF(合成オッズ計算表!H80>=1,1/合成オッズ計算表!H80,\"\")","v":""},{"$f":"IF(合成オッズ計算表!J80>=1,1/合成オッズ計算表!J80,\"\")","v":""},{"$f":"IF(合成オッズ計算表!L80>=1,1/合成オッズ計算表!L80,\"\")","v":""},{"$f":"IF(合成オッズ計算表!N80>=1,1/合成オッズ計算表!N80,\"\")","v":""},{"$f":"IF(合成オッズ計算表!P80>=1,1/合成オッズ計算表!P80,\"\")","v":""},{"$f":"IF(合成オッズ計算表!R80>=1,1/合成オッズ計算表!R80,\"\")","v":""}]
[{"$f":"IF(合成オッズ計算表!D81>=1,1/合成オッズ計算表!D81,\"\")","v":""},{"$f":"IF(合成オッズ計算表!F81>=1,1/合成オッズ計算表!F81,\"\")","v":""},{"$f":"IF(合成オッズ計算表!H81>=1,1/合成オッズ計算表!H81,\"\")","v":""},{"$f":"IF(合成オッズ計算表!J81>=1,1/合成オッズ計算表!J81,\"\")","v":""},{"$f":"IF(合成オッズ計算表!L81>=1,1/合成オッズ計算表!L81,\"\")","v":""},{"$f":"IF(合成オッズ計算表!N81>=1,1/合成オッズ計算表!N81,\"\")","v":""},{"$f":"IF(合成オッズ計算表!P81>=1,1/合成オッズ計算表!P81,\"\")","v":""},{"$f":"IF(合成オッズ計算表!R81>=1,1/合成オッズ計算表!R81,\"\")","v":""}]
[{"$f":"IF(合成オッズ計算表!D82>=1,1/合成オッズ計算表!D82,\"\")","v":""},{"$f":"IF(合成オッズ計算表!F82>=1,1/合成オッズ計算表!F82,\"\")","v":""},{"$f":"IF(合成オッズ計算表!H82>=1,1/合成オッズ計算表!H82,\"\")","v":""},{"$f":"IF(合成オッズ計算表!J82>=1,1/合成オッズ計算表!J82,\"\")","v":""},{"$f":"IF(合成オッズ計算表!L82>=1,1/合成オッズ計算表!L82,\"\")","v":""},{"$f":"IF(合成オッズ計算表!N82>=1,1/合成オッズ計算表!N82,\"\")","v":""},{"$f":"IF(合成オッズ計算表!P82>=1,1/合成オッズ計算表!P82,\"\")","v":""},{"$f":"IF(合成オッズ計算表!R82>=1,1/合成オッズ計算表!R82,\"\")","v":""}]
[{"$f":"IF(合成オッズ計算表!D83>=1,1/合成オッズ計算表!D83,\"\")","v":""},{"$f":"IF(合成オッズ計算表!F83>=1,1/合成オッズ計算表!F83,\"\")","v":""},{"$f":"IF(合成オッズ計算表!H83>=1,1/合成オッズ計算表!H83,\"\")","v":""},{"$f":"IF(合成オッズ計算表!J83>=1,1/合成オッズ計算表!J83,\"\")","v":""},{"$f":"IF(合成オッズ計算表!L83>=1,1/合成オッズ計算表!L83,\"\")","v":""},{"$f":"IF(合成オッズ計算表!N83>=1,1/合成オッズ計算表!N83,\"\")","v":""},{"$f":"IF(合成オッズ計算表!P83>=1,1/合成オッズ計算表!P83,\"\")","v":""},{"$f":"IF(合成オッズ計算表!R83>=1,1/合成オッズ計算表!R83,\"\")","v":""}]
[{"$f":"IF(合成オッズ計算表!D84>=1,1/合成オッズ計算表!D84,\"\")","v":""},{"$f":"IF(合成オッズ計算表!F84>=1,1/合成オッズ計算表!F84,\"\")","v":""},{"$f":"IF(合成オッズ計算表!H84>=1,1/合成オッズ計算表!H84,\"\")","v":""},{"$f":"IF(合成オッズ計算表!J84>=1,1/合成オッズ計算表!J84,\"\")","v":""},{"$f":"IF(合成オッズ計算表!L84>=1,1/合成オッズ計算表!L84,\"\")","v":""},{"$f":"IF(合成オッズ計算表!N84>=1,1/合成オッズ計算表!N84,\"\")","v":""},{"$f":"IF(合成オッズ計算表!P84>=1,1/合成オッズ計算表!P84,\"\")","v":""},{"$f":"IF(合成オッズ計算表!R84>=1,1/合成オッズ計算表!R84,\"\")","v":""}]
[{"$f":"IF(合成オッズ計算表!D85>=1,1/合成オッズ計算表!D85,\"\")","v":""},{"$f":"IF(合成オッズ計算表!F85>=1,1/合成オッズ計算表!F85,\"\")","v":""},{"$f":"IF(合成オッズ計算表!H85>=1,1/合成オッズ計算表!H85,\"\")","v":""},{"$f":"IF(合成オッズ計算表!J85>=1,1/合成オッズ計算表!J85,\"\")","v":""},{"$f":"IF(合成オッズ計算表!L85>=1,1/合成オッズ計算表!L85,\"\")","v":""},{"$f":"IF(合成オッズ計算表!N85>=1,1/合成オッズ計算表!N85,\"\")","v":""},{"$f":"IF(合成オッズ計算表!P85>=1,1/合成オッズ計算表!P85,\"\")","v":""},{"$f":"IF(合成オッズ計算表!R85>=1,1/合成オッズ計算表!R85,\"\")","v":""}]
[{"$f":"IF(合成オッズ計算表!D86>=1,1/合成オッズ計算表!D86,\"\")","v":""},{"$f":"IF(合成オッズ計算表!F86>=1,1/合成オッズ計算表!F86,\"\")","v":""},{"$f":"IF(合成オッズ計算表!H86>=1,1/合成オッズ計算表!H86,\"\")","v":""},{"$f":"IF(合成オッズ計算表!J86>=1,1/合成オッズ計算表!J86,\"\")","v":""},{"$f":"IF(合成オッズ計算表!L86>=1,1/合成オッズ計算表!L86,\"\")","v":""},{"$f":"IF(合成オッズ計算表!N86>=1,1/合成オッズ計算表!N86,\"\")","v":""},{"$f":"IF(合成オッズ計算表!P86>=1,1/合成オッズ計算表!P86,\"\")","v":""},{"$f":"IF(合成オッズ計算表!R86>=1,1/合成オッズ計算表!R86,\"\")","v":""}]
[{"$f":"IF(合成オッズ計算表!D87>=1,1/合成オッズ計算表!D87,\"\")","v":""},{"$f":"IF(合成オッズ計算表!F87>=1,1/合成オッズ計算表!F87,\"\")","v":""},{"$f":"IF(合成オッズ計算表!H87>=1,1/合成オッズ計算表!H87,\"\")","v":""},{"$f":"IF(合成オッズ計算表!J87>=1,1/合成オッズ計算表!J87,\"\")","v":""},{"$f":"IF(合成オッズ計算表!L87>=1,1/合成オッズ計算表!L87,\"\")","v":""},{"$f":"IF(合成オッズ計算表!N87>=1,1/合成オッズ計算表!N87,\"\")","v":""},{"$f":"IF(合成オッズ計算表!P87>=1,1/合成オッズ計算表!P87,\"\")","v":""},{"$f":"IF(合成オッズ計算表!R87>=1,1/合成オッズ計算表!R87,\"\")","v":""}]
[{"$f":"IF(合成オッズ計算表!D88>=1,1/合成オッズ計算表!D88,\"\")","v":""},{"$f":"IF(合成オッズ計算表!F88>=1,1/合成オッズ計算表!F88,\"\")","v":""},{"$f":"IF(合成オッズ計算表!H88>=1,1/合成オッズ計算表!H88,\"\")","v":""},{"$f":"IF(合成オッズ計算表!J88>=1,1/合成オッズ計算表!J88,\"\")","v":""},{"$f":"IF(合成オッズ計算表!L88>=1,1/合成オッズ計算表!L88,\"\")","v":""},{"$f":"IF(合成オッズ計算表!N88>=1,1/合成オッズ計算表!N88,\"\")","v":""},{"$f":"IF(合成オッズ計算表!P88>=1,1/合成オッズ計算表!P88,\"\")","v":""},{"$f":"IF(合成オッズ計算表!R88>=1,1/合成オッズ計算表!R88,\"\")","v":""}]
[{"$f":"IF(合成オッズ計算表!D89>=1,1/合成オッズ計算表!D89,\"\")","v":""},{"$f":"IF(合成オッズ計算表!F89>=1,1/合成オッズ計算表!F89,\"\")","v":""},{"$f":"IF(合成オッズ計算表!H89>=1,1/合成オッズ計算表!H89,\"\")","v":""},{"$f":"IF(合成オッズ計算表!J89>=1,1/合成オッズ計算表!J89,\"\")","v":""},{"$f":"IF(合成オッズ計算表!L89>=1,1/合成オッズ計算表!L89,\"\")","v":""},{"$f":"IF(合成オッズ計算表!N89>=1,1/合成オッズ計算表!N89,\"\")","v":""},{"$f":"IF(合成オッズ計算表!P89>=1,1/合成オッズ計算表!P89,\"\")","v":""},{"$f":"IF(合成オッズ計算表!R89>=1,1/合成オッズ計算表!R89,\"\")","v":""}]
[{"$f":"IF(合成オッズ計算表!D90>=1,1/合成オッズ計算表!D90,\"\")","v":""},{"$f":"IF(合成オッズ計算表!F90>=1,1/合成オッズ計算表!F90,\"\")","v":""},{"$f":"IF(合成オッズ計算表!H90>=1,1/合成オッズ計算表!H90,\"\")","v":""},{"$f":"IF(合成オッズ計算表!J90>=1,1/合成オッズ計算表!J90,\"\")","v":""},{"$f":"IF(合成オッズ計算表!L90>=1,1/合成オッズ計算表!L90,\"\")","v":""},{"$f":"IF(合成オッズ計算表!N90>=1,1/合成オッズ計算表!N90,\"\")","v":""},{"$f":"IF(合成オッズ計算表!P90>=1,1/合成オッズ計算表!P90,\"\")","v":""},{"$f":"IF(合成オッズ計算表!R90>=1,1/合成オッズ計算表!R90,\"\")","v":""}]
[{"$f":"IF(合成オッズ計算表!D91>=1,1/合成オッズ計算表!D91,\"\")","v":""},{"$f":"IF(合成オッズ計算表!F91>=1,1/合成オッズ計算表!F91,\"\")","v":""},{"$f":"IF(合成オッズ計算表!H91>=1,1/合成オッズ計算表!H91,\"\")","v":""},{"$f":"IF(合成オッズ計算表!J91>=1,1/合成オッズ計算表!J91,\"\")","v":""},{"$f":"IF(合成オッズ計算表!L91>=1,1/合成オッズ計算表!L91,\"\")","v":""},{"$f":"IF(合成オッズ計算表!N91>=1,1/合成オッズ計算表!N91,\"\")","v":""},{"$f":"IF(合成オッズ計算表!P91>=1,1/合成オッズ計算表!P91,\"\")","v":""},{"$f":"IF(合成オッズ計算表!R91>=1,1/合成オッズ計算表!R91,\"\")","v":""}]
[{"$f":"IF(合成オッズ計算表!D92>=1,1/合成オッズ計算表!D92,\"\")","v":""},{"$f":"IF(合成オッズ計算表!F92>=1,1/合成オッズ計算表!F92,\"\")","v":""},{"$f":"IF(合成オッズ計算表!H92>=1,1/合成オッズ計算表!H92,\"\")","v":""},{"$f":"IF(合成オッズ計算表!J92>=1,1/合成オッズ計算表!J92,\"\")","v":""},{"$f":"IF(合成オッズ計算表!L92>=1,1/合成オッズ計算表!L92,\"\")","v":""},{"$f":"IF(合成オッズ計算表!N92>=1,1/合成オッズ計算表!N92,\"\")","v":""},{"$f":"IF(合成オッズ計算表!P92>=1,1/合成オッズ計算表!P92,\"\")","v":""},{"$f":"IF(合成オッズ計算表!R92>=1,1/合成オッズ計算表!R92,\"\")","v":""}]
[{"$f":"IF(合成オッズ計算表!D93>=1,1/合成オッズ計算表!D93,\"\")","v":""},{"$f":"IF(合成オッズ計算表!F93>=1,1/合成オッズ計算表!F93,\"\")","v":""},{"$f":"IF(合成オッズ計算表!H93>=1,1/合成オッズ計算表!H93,\"\")","v":""},{"$f":"IF(合成オッズ計算表!J93>=1,1/合成オッズ計算表!J93,\"\")","v":""},{"$f":"IF(合成オッズ計算表!L93>=1,1/合成オッズ計算表!L93,\"\")","v":""},{"$f":"IF(合成オッズ計算表!N93>=1,1/合成オッズ計算表!N93,\"\")","v":""},{"$f":"IF(合成オッズ計算表!P93>=1,1/合成オッズ計算表!P93,\"\")","v":""},{"$f":"IF(合成オッズ計算表!R93>=1,1/合成オッズ計算表!R93,\"\")","v":""}]
[{"$f":"IF(合成オッズ計算表!D94>=1,1/合成オッズ計算表!D94,\"\")","v":""},{"$f":"IF(合成オッズ計算表!F94>=1,1/合成オッズ計算表!F94,\"\")","v":""},{"$f":"IF(合成オッズ計算表!H94>=1,1/合成オッズ計算表!H94,\"\")","v":""},{"$f":"IF(合成オッズ計算表!J94>=1,1/合成オッズ計算表!J94,\"\")","v":""},{"$f":"IF(合成オッズ計算表!L94>=1,1/合成オッズ計算表!L94,\"\")","v":""},{"$f":"IF(合成オッズ計算表!N94>=1,1/合成オッズ計算表!N94,\"\")","v":""},{"$f":"IF(合成オッズ計算表!P94>=1,1/合成オッズ計算表!P94,\"\")","v":""},{"$f":"IF(合成オッズ計算表!R94>=1,1/合成オッズ計算表!R94,\"\")","v":""}]
[{"$f":"IF(合成オッズ計算表!D95>=1,1/合成オッズ計算表!D95,\"\")","v":""},{"$f":"IF(合成オッズ計算表!F95>=1,1/合成オッズ計算表!F95,\"\")","v":""},{"$f":"IF(合成オッズ計算表!H95>=1,1/合成オッズ計算表!H95,\"\")","v":""},{"$f":"IF(合成オッズ計算表!J95>=1,1/合成オッズ計算表!J95,\"\")","v":""},{"$f":"IF(合成オッズ計算表!L95>=1,1/合成オッズ計算表!L95,\"\")","v":""},{"$f":"IF(合成オッズ計算表!N95>=1,1/合成オッズ計算表!N95,\"\")","v":""},{"$f":"IF(合成オッズ計算表!P95>=1,1/合成オッズ計算表!P95,\"\")","v":""},{"$f":"IF(合成オッズ計算表!R95>=1,1/合成オッズ計算表!R95,\"\")","v":""}]
[{"$f":"IF(合成オッズ計算表!D96>=1,1/合成オッズ計算表!D96,\"\")","v":""},{"$f":"IF(合成オッズ計算表!F96>=1,1/合成オッズ計算表!F96,\"\")","v":""},{"$f":"IF(合成オッズ計算表!H96>=1,1/合成オッズ計算表!H96,\"\")","v":""},{"$f":"IF(合成オッズ計算表!J96>=1,1/合成オッズ計算表!J96,\"\")","v":""},{"$f":"IF(合成オッズ計算表!L96>=1,1/合成オッズ計算表!L96,\"\")","v":""},{"$f":"IF(合成オッズ計算表!N96>=1,1/合成オッズ計算表!N96,\"\")","v":""},{"$f":"IF(合成オッズ計算表!P96>=1,1/合成オッズ計算表!P96,\"\")","v":""},{"$f":"IF(合成オッズ計算表!R96>=1,1/合成オッズ計算表!R96,\"\")","v":""}]
[{"$f":"IF(合成オッズ計算表!D97>=1,1/合成オッズ計算表!D97,\"\")","v":""},{"$f":"IF(合成オッズ計算表!F97>=1,1/合成オッズ計算表!F97,\"\")","v":""},{"$f":"IF(合成オッズ計算表!H97>=1,1/合成オッズ計算表!H97,\"\")","v":""},{"$f":"IF(合成オッズ計算表!J97>=1,1/合成オッズ計算表!J97,\"\")","v":""},{"$f":"IF(合成オッズ計算表!L97>=1,1/合成オッズ計算表!L97,\"\")","v":""},{"$f":"IF(合成オッズ計算表!N97>=1,1/合成オッズ計算表!N97,\"\")","v":""},{"$f":"IF(合成オッズ計算表!P97>=1,1/合成オッズ計算表!P97,\"\")","v":""},{"$f":"IF(合成オッズ計算表!R97>=1,1/合成オッズ計算表!R97,\"\")","v":""}]
[{"$f":"IF(合成オッズ計算表!D98>=1,1/合成オッズ計算表!D98,\"\")","v":""},{"$f":"IF(合成オッズ計算表!F98>=1,1/合成オッズ計算表!F98,\"\")","v":""},{"$f":"IF(合成オッズ計算表!H98>=1,1/合成オッズ計算表!H98,\"\")","v":""},{"$f":"IF(合成オッズ計算表!J98>=1,1/合成オッズ計算表!J98,\"\")","v":""},{"$f":"IF(合成オッズ計算表!L98>=1,1/合成オッズ計算表!L98,\"\")","v":""},{"$f":"IF(合成オッズ計算表!N98>=1,1/合成オッズ計算表!N98,\"\")","v":""},{"$f":"IF(合成オッズ計算表!P98>=1,1/合成オッズ計算表!P98,\"\")","v":""},{"$f":"IF(合成オッズ計算表!R98>=1,1/合成オッズ計算表!R98,\"\")","v":""}]
[{"$f":"IF(合成オッズ計算表!D99>=1,1/合成オッズ計算表!D99,\"\")","v":""},{"$f":"IF(合成オッズ計算表!F99>=1,1/合成オッズ計算表!F99,\"\")","v":""},{"$f":"IF(合成オッズ計算表!H99>=1,1/合成オッズ計算表!H99,\"\")","v":""},{"$f":"IF(合成オッズ計算表!J99>=1,1/合成オッズ計算表!J99,\"\")","v":""},{"$f":"IF(合成オッズ計算表!L99>=1,1/合成オッズ計算表!L99,\"\")","v":""},{"$f":"IF(合成オッズ計算表!N99>=1,1/合成オッズ計算表!N99,\"\")","v":""},{"$f":"IF(合成オッズ計算表!P99>=1,1/合成オッズ計算表!P99,\"\")","v":""},{"$f":"IF(合成オッズ計算表!R99>=1,1/合成オッズ計算表!R99,\"\")","v":""}]
[{"$f":"IF(合成オッズ計算表!D100>=1,1/合成オッズ計算表!D100,\"\")","v":""},{"$f":"IF(合成オッズ計算表!F100>=1,1/合成オッズ計算表!F100,\"\")","v":""},{"$f":"IF(合成オッズ計算表!H100>=1,1/合成オッズ計算表!H100,\"\")","v":""},{"$f":"IF(合成オッズ計算表!J100>=1,1/合成オッズ計算表!J100,\"\")","v":""},{"$f":"IF(合成オッズ計算表!L100>=1,1/合成オッズ計算表!L100,\"\")","v":""},{"$f":"IF(合成オッズ計算表!N100>=1,1/合成オッズ計算表!N100,\"\")","v":""},{"$f":"IF(合成オッズ計算表!P100>=1,1/合成オッズ計算表!P100,\"\")","v":""},{"$f":"IF(合成オッズ計算表!R100>=1,1/合成オッズ計算表!R100,\"\")","v":""}]
[{"$f":"IF(合成オッズ計算表!D101>=1,1/合成オッズ計算表!D101,\"\")","v":""},{"$f":"IF(合成オッズ計算表!F101>=1,1/合成オッズ計算表!F101,\"\")","v":""},{"$f":"IF(合成オッズ計算表!H101>=1,1/合成オッズ計算表!H101,\"\")","v":""},{"$f":"IF(合成オッズ計算表!J101>=1,1/合成オッズ計算表!J101,\"\")","v":""},{"$f":"IF(合成オッズ計算表!L101>=1,1/合成オッズ計算表!L101,\"\")","v":""},{"$f":"IF(合成オッズ計算表!N101>=1,1/合成オッズ計算表!N101,\"\")","v":""},{"$f":"IF(合成オッズ計算表!P101>=1,1/合成オッズ計算表!P101,\"\")","v":""},{"$f":"IF(合成オッズ計算表!R101>=1,1/合成オッズ計算表!R101,\"\")","v":""}]
[{"$f":"IF(合成オッズ計算表!D102>=1,1/合成オッズ計算表!D102,\"\")","v":""},{"$f":"IF(合成オッズ計算表!F102>=1,1/合成オッズ計算表!F102,\"\")","v":""},{"$f":"IF(合成オッズ計算表!H102>=1,1/合成オッズ計算表!H102,\"\")","v":""},{"$f":"IF(合成オッズ計算表!J102>=1,1/合成オッズ計算表!J102,\"\")","v":""},{"$f":"IF(合成オッズ計算表!L102>=1,1/合成オッズ計算表!L102,\"\")","v":""},{"$f":"IF(合成オッズ計算表!N102>=1,1/合成オッズ計算表!N102,\"\")","v":""},{"$f":"IF(合成オッズ計算表!P102>=1,1/合成オッズ計算表!P102,\"\")","v":""},{"$f":"IF(合成オッズ計算表!R102>=1,1/合成オッズ計算表!R102,\"\")","v":""}]
[{"$f":"IF(合成オッズ計算表!D103>=1,1/合成オッズ計算表!D103,\"\")","v":""},{"$f":"IF(合成オッズ計算表!F103>=1,1/合成オッズ計算表!F103,\"\")","v":""},{"$f":"IF(合成オッズ計算表!H103>=1,1/合成オッズ計算表!H103,\"\")","v":""},{"$f":"IF(合成オッズ計算表!J103>=1,1/合成オッズ計算表!J103,\"\")","v":""},{"$f":"IF(合成オッズ計算表!L103>=1,1/合成オッズ計算表!L103,\"\")","v":""},{"$f":"IF(合成オッズ計算表!N103>=1,1/合成オッズ計算表!N103,\"\")","v":""},{"$f":"IF(合成オッズ計算表!P103>=1,1/合成オッズ計算表!P103,\"\")","v":""},{"$f":"IF(合成オッズ計算表!R103>=1,1/合成オッズ計算表!R103,\"\")","v":""}]
[{"$f":"IF(合成オッズ計算表!D104>=1,1/合成オッズ計算表!D104,\"\")","v":""},{"$f":"IF(合成オッズ計算表!F104>=1,1/合成オッズ計算表!F104,\"\")","v":""},{"$f":"IF(合成オッズ計算表!H104>=1,1/合成オッズ計算表!H104,\"\")","v":""},{"$f":"IF(合成オッズ計算表!J104>=1,1/合成オッズ計算表!J104,\"\")","v":""},{"$f":"IF(合成オッズ計算表!L104>=1,1/合成オッズ計算表!L104,\"\")","v":""},{"$f":"IF(合成オッズ計算表!N104>=1,1/合成オッズ計算表!N104,\"\")","v":""},{"$f":"IF(合成オッズ計算表!P104>=1,1/合成オッズ計算表!P104,\"\")","v":""},{"$f":"IF(合成オッズ計算表!R104>=1,1/合成オッズ計算表!R104,\"\")","v":""}]
[{"$f":"IF(合成オッズ計算表!D105>=1,1/合成オッズ計算表!D105,\"\")","v":""},{"$f":"IF(合成オッズ計算表!F105>=1,1/合成オッズ計算表!F105,\"\")","v":""},{"$f":"IF(合成オッズ計算表!H105>=1,1/合成オッズ計算表!H105,\"\")","v":""},{"$f":"IF(合成オッズ計算表!J105>=1,1/合成オッズ計算表!J105,\"\")","v":""},{"$f":"IF(合成オッズ計算表!L105>=1,1/合成オッズ計算表!L105,\"\")","v":""},{"$f":"IF(合成オッズ計算表!N105>=1,1/合成オッズ計算表!N105,\"\")","v":""},{"$f":"IF(合成オッズ計算表!P105>=1,1/合成オッズ計算表!P105,\"\")","v":""},{"$f":"IF(合成オッズ計算表!R105>=1,1/合成オッズ計算表!R105,\"\")","v":""}]
[{"$f":"IF(合成オッズ計算表!D106>=1,1/合成オッズ計算表!D106,\"\")","v":""},{"$f":"IF(合成オッズ計算表!F106>=1,1/合成オッズ計算表!F106,\"\")","v":""},{"$f":"IF(合成オッズ計算表!H106>=1,1/合成オッズ計算表!H106,\"\")","v":""},{"$f":"IF(合成オッズ計算表!J106>=1,1/合成オッズ計算表!J106,\"\")","v":""},{"$f":"IF(合成オッズ計算表!L106>=1,1/合成オッズ計算表!L106,\"\")","v":""},{"$f":"IF(合成オッズ計算表!N106>=1,1/合成オッズ計算表!N106,\"\")","v":""},{"$f":"IF(合成オッズ計算表!P106>=1,1/合成オッズ計算表!P106,\"\")","v":""},{"$f":"IF(合成オッズ計算表!R106>=1,1/合成オッズ計算表!R106,\"\")","v":""}]
[{"$f":"IF(合成オッズ計算表!D107>=1,1/合成オッズ計算表!D107,\"\")","v":""},{"$f":"IF(合成オッズ計算表!F107>=1,1/合成オッズ計算表!F107,\"\")","v":""},{"$f":"IF(合成オッズ計算表!H107>=1,1/合成オッズ計算表!H107,\"\")","v":""},{"$f":"IF(合成オッズ計算表!J107>=1,1/合成オッズ計算表!J107,\"\")","v":""},{"$f":"IF(合成オッズ計算表!L107>=1,1/合成オッズ計算表!L107,\"\")","v":""},{"$f":"IF(合成オッズ計算表!N107>=1,1/合成オッズ計算表!N107,\"\")","v":""},{"$f":"IF(合成オッズ計算表!P107>=1,1/合成オッズ計算表!P107,\"\")","v":""},{"$f":"IF(合成オッズ計算表!R107>=1,1/合成オッズ計算表!R107,\"\")","v":""}]
[{"$f":"IF(合成オッズ計算表!D108>=1,1/合成オッズ計算表!D108,\"\")","v":""},{"$f":"IF(合成オッズ計算表!F108>=1,1/合成オッズ計算表!F108,\"\")","v":""},{"$f":"IF(合成オッズ計算表!H108>=1,1/合成オッズ計算表!H108,\"\")","v":""},{"$f":"IF(合成オッズ計算表!J108>=1,1/合成オッズ計算表!J108,\"\")","v":""},{"$f":"IF(合成オッズ計算表!L108>=1,1/合成オッズ計算表!L108,\"\")","v":""},{"$f":"IF(合成オッズ計算表!N108>=1,1/合成オッズ計算表!N108,\"\")","v":""},{"$f":"IF(合成オッズ計算表!P108>=1,1/合成オッズ計算表!P108,\"\")","v":""},{"$f":"IF(合成オッズ計算表!R108>=1,1/合成オッズ計算表!R108,\"\")","v":""}]
[{"$f":"IF(合成オッズ計算表!D109>=1,1/合成オッズ計算表!D109,\"\")","v":""},{"$f":"IF(合成オッズ計算表!F109>=1,1/合成オッズ計算表!F109,\"\")","v":""},{"$f":"IF(合成オッズ計算表!H109>=1,1/合成オッズ計算表!H109,\"\")","v":""},{"$f":"IF(合成オッズ計算表!J109>=1,1/合成オッズ計算表!J109,\"\")","v":""},{"$f":"IF(合成オッズ計算表!L109>=1,1/合成オッズ計算表!L109,\"\")","v":""},{"$f":"IF(合成オッズ計算表!N109>=1,1/合成オッズ計算表!N109,\"\")","v":""},{"$f":"IF(合成オッズ計算表!P109>=1,1/合成オッズ計算表!P109,\"\")","v":""},{"$f":"IF(合成オッズ計算表!R109>=1,1/合成オッズ計算表!R109,\"\")","v":""}]
[{"$f":"IF(合成オッズ計算表!D110>=1,1/合成オッズ計算表!D110,\"\")","v":""},{"$f":"IF(合成オッズ計算表!F110>=1,1/合成オッズ計算表!F110,\"\")","v":""},{"$f":"IF(合成オッズ計算表!H110>=1,1/合成オッズ計算表!H110,\"\")","v":""},{"$f":"IF(合成オッズ計算表!J110>=1,1/合成オッズ計算表!J110,\"\")","v":""},{"$f":"IF(合成オッズ計算表!L110>=1,1/合成オッズ計算表!L110,\"\")","v":""},{"$f":"IF(合成オッズ計算表!N110>=1,1/合成オッズ計算表!N110,\"\")","v":""},{"$f":"IF(合成オッズ計算表!P110>=1,1/合成オッズ計算表!P110,\"\")","v":""},{"$f":"IF(合成オッズ計算表!R110>=1,1/合成オッズ計算表!R110,\"\")","v":""}]